BEGIN:VCALENDAR
VERSION:2.0
PRODID:icalendar-ruby
CALSCALE:GREGORIAN
BEGIN:VEVENT
DTSTAMP:20210121T210312Z
UID:b90de64b-93ab-4261-a9e8-d60fdbabf9c7
DTSTART;VALUE=DATE:20191204
DESCRIPTION:Property ID# 466870\, Time: 4:00PM
SUMMARY:Auction for 
END:VEVENT
END:VCALENDAR
