BEGIN:VCALENDAR
VERSION:2.0
PRODID:icalendar-ruby
CALSCALE:GREGORIAN
BEGIN:VEVENT
DTSTAMP:20210121T210313Z
UID:3852e68e-8532-45e1-a662-64d5b764a13d
DTSTART;VALUE=DATE:20190807
DESCRIPTION:Property ID# 458344\, Time: 4:00PM
SUMMARY:Auction for 
END:VEVENT
END:VCALENDAR
